BEGIN:VCALENDAR
VERSION:2.0
PRODID:-//paul schröder - ECPv6.15.20//NONSGML v1.0//EN
CALSCALE:GREGORIAN
METHOD:PUBLISH
X-ORIGINAL-URL:https://paulschroeder.info
X-WR-CALDESC:Veranstaltungen für paul schröder
REFRESH-INTERVAL;VALUE=DURATION:PT1H
X-Robots-Tag:noindex
X-PUBLISHED-TTL:PT1H
BEGIN:VTIMEZONE
TZID:Europe/Berlin
BEGIN:DAYLIGHT
TZOFFSETFROM:+0100
TZOFFSETTO:+0200
TZNAME:CEST
DTSTART:20240331T010000
END:DAYLIGHT
BEGIN:STANDARD
TZOFFSETFROM:+0200
TZOFFSETTO:+0100
TZNAME:CET
DTSTART:20241027T010000
END:STANDARD
BEGIN:DAYLIGHT
TZOFFSETFROM:+0100
TZOFFSETTO:+0200
TZNAME:CEST
DTSTART:20250330T010000
END:DAYLIGHT
BEGIN:STANDARD
TZOFFSETFROM:+0200
TZOFFSETTO:+0100
TZNAME:CET
DTSTART:20251026T010000
END:STANDARD
BEGIN:DAYLIGHT
TZOFFSETFROM:+0100
TZOFFSETTO:+0200
TZNAME:CEST
DTSTART:20260329T010000
END:DAYLIGHT
BEGIN:STANDARD
TZOFFSETFROM:+0200
TZOFFSETTO:+0100
TZNAME:CET
DTSTART:20261025T010000
END:STANDARD
END:VTIMEZONE
BEGIN:VEVENT
DTSTART;TZID=Europe/Berlin:20251204T200000
DTEND;TZID=Europe/Berlin:20251204T220000
DTSTAMP:20260421T190645
CREATED:20251008T131302Z
LAST-MODIFIED:20251008T135136Z
UID:2682-1764878400-1764885600@paulschroeder.info
SUMMARY:Die Odyssee
DESCRIPTION:Die Odyssee – ein Irrfahrt nach Homer. \nDie preisgekrönte\, über 100 Mal gespielte Kultinszenierung. Paul Schröder ist mit seinem Kollegen Thomas Niehaus zu erleben. Mehr Informationen zur Veranstaltung bitte hier klicken: Die Odyssee
URL:https://paulschroeder.info/event/die-odyssee-35/
LOCATION:Thalia-Theater – Gaußstraße\, Gaußstraße 190\, Hamburg\, Hamburg
CATEGORIES:Thalia Theater
END:VEVENT
BEGIN:VEVENT
DTSTART;TZID=Europe/Berlin:20251212T200000
DTEND;TZID=Europe/Berlin:20251212T220000
DTSTAMP:20260421T190645
CREATED:20251220T120949Z
LAST-MODIFIED:20251220T120949Z
UID:2702-1765569600-1765576800@paulschroeder.info
SUMMARY:Die Odyssee
DESCRIPTION:Die Odyssee – ein Irrfahrt nach Homer. \nDie preisgekrönte\, über 100 Mal gespielte Kultinszenierung. Paul Schröder ist mit seinem Kollegen Thomas Niehaus zu erleben. Mehr Informationen zur Veranstaltung bitte hier klicken: Die Odyssee
URL:https://paulschroeder.info/event/die-odyssee-36/
LOCATION:Thalia-Theater – Gaußstraße\, Gaußstraße 190\, Hamburg\, Hamburg
CATEGORIES:Thalia Theater
END:VEVENT
BEGIN:VEVENT
DTSTART;TZID=Europe/Berlin:20251219T200000
DTEND;TZID=Europe/Berlin:20251219T220000
DTSTAMP:20260421T190645
CREATED:20251220T131830Z
LAST-MODIFIED:20251220T131830Z
UID:2731-1766174400-1766181600@paulschroeder.info
SUMMARY:Ersatzvorstellung wegen Krankheit: MUTTERTIER
DESCRIPTION:Eine Kollektiv Katla- Produktion: kollektivkatla.ch
URL:https://paulschroeder.info/event/ersatzvorstellung-wegen-krankheit-muttertier/
LOCATION:Kulturraum Thalwil\, Bahnhofstrasse 24\, Thalwil\, 8800\, Switzerland
CATEGORIES:Freie Szene,Paul und Willi
ORGANIZER;CN="Kulturraum Thalwil":MAILTO:info@kulturraumthalwil.ch
END:VEVENT
BEGIN:VEVENT
DTSTART;TZID=Europe/Berlin:20251220T200000
DTEND;TZID=Europe/Berlin:20251220T220000
DTSTAMP:20260421T190645
CREATED:20251220T122011Z
LAST-MODIFIED:20251220T122517Z
UID:2704-1766260800-1766268000@paulschroeder.info
SUMMARY:Die Odyssee
DESCRIPTION:Die Odyssee – ein Irrfahrt nach Homer. \nDie preisgekrönte\, über 100 Mal gespielte Kultinszenierung. Paul Schröder ist mit seinem Kollegen Thomas Niehaus zu erleben. Mehr Informationen zur Veranstaltung bitte hier klicken: Die Odyssee
URL:https://paulschroeder.info/event/die-odyssee-37/
LOCATION:Thalia-Theater – Gaußstraße\, Gaußstraße 190\, Hamburg\, Hamburg
CATEGORIES:Thalia Theater
END:VEVENT
BEGIN:VEVENT
DTSTART;TZID=Europe/Berlin:20251221T190000
DTEND;TZID=Europe/Berlin:20251221T210000
DTSTAMP:20260421T190645
CREATED:20251220T123645Z
LAST-MODIFIED:20251220T123645Z
UID:2706-1766343600-1766350800@paulschroeder.info
SUMMARY:Die Odyssee
DESCRIPTION:Die Odyssee – ein Irrfahrt nach Homer. \nDie preisgekrönte\, über 100 Mal gespielte Kultinszenierung. Paul Schröder ist mit seinem Kollegen Thomas Niehaus zu erleben. Mehr Informationen zur Veranstaltung bitte hier klicken: Die Odyssee
URL:https://paulschroeder.info/event/die-odyssee-38/
LOCATION:Thalia-Theater – Gaußstraße\, Gaußstraße 190\, Hamburg\, Hamburg
CATEGORIES:Thalia Theater
ATTACH;FMTTYPE=image/jpeg:https://paulschroeder.info/wp-content/uploads/2024/09/odyssee_quadrat.jpg
END:VEVENT
BEGIN:VEVENT
DTSTART;TZID=Europe/Berlin:20251222T180000
DTEND;TZID=Europe/Berlin:20251222T220000
DTSTAMP:20260421T190645
CREATED:20251220T123838Z
LAST-MODIFIED:20251220T123838Z
UID:2708-1766426400-1766440800@paulschroeder.info
SUMMARY:Solange wir leben
DESCRIPTION:Paul Schröder zu sehen in den Rollen: Amos\, Friedrich\, Gerhard \nUraufführung\nnach dem Roman von David Safier\nin einer Fassung von John von Düffel\nRegie: Alize Zandwijk \nMehr Infos https://theaterbremen.de/de_DE/programm/solange-wir-leben.1361865
URL:https://paulschroeder.info/event/solange-wir-leben-10/
LOCATION:Theater Bremen\, Goetheplatz 1-3\, Bremen\, 28203
CATEGORIES:Theater Bremen
ORGANIZER;CN="Theater Bremen":MAILTO:kasse@theaterbremen.de
END:VEVENT
END:VCALENDAR