BEGIN:VCALENDAR
VERSION:2.0
PRODID:-//paul schröder - ECPv6.15.20//NONSGML v1.0//EN
CALSCALE:GREGORIAN
METHOD:PUBLISH
X-ORIGINAL-URL:https://paulschroeder.info
X-WR-CALDESC:Veranstaltungen für paul schröder
REFRESH-INTERVAL;VALUE=DURATION:PT1H
X-Robots-Tag:noindex
X-PUBLISHED-TTL:PT1H
BEGIN:VTIMEZONE
TZID:Europe/Berlin
BEGIN:DAYLIGHT
TZOFFSETFROM:+0100
TZOFFSETTO:+0200
TZNAME:CEST
DTSTART:20240331T010000
END:DAYLIGHT
BEGIN:STANDARD
TZOFFSETFROM:+0200
TZOFFSETTO:+0100
TZNAME:CET
DTSTART:20241027T010000
END:STANDARD
BEGIN:DAYLIGHT
TZOFFSETFROM:+0100
TZOFFSETTO:+0200
TZNAME:CEST
DTSTART:20250330T010000
END:DAYLIGHT
BEGIN:STANDARD
TZOFFSETFROM:+0200
TZOFFSETTO:+0100
TZNAME:CET
DTSTART:20251026T010000
END:STANDARD
BEGIN:DAYLIGHT
TZOFFSETFROM:+0100
TZOFFSETTO:+0200
TZNAME:CEST
DTSTART:20260329T010000
END:DAYLIGHT
BEGIN:STANDARD
TZOFFSETFROM:+0200
TZOFFSETTO:+0100
TZNAME:CET
DTSTART:20261025T010000
END:STANDARD
END:VTIMEZONE
BEGIN:VEVENT
DTSTART;TZID=Europe/Berlin:20251107T200000
DTEND;TZID=Europe/Berlin:20251107T220000
DTSTAMP:20260421T203001
CREATED:20251008T131124Z
LAST-MODIFIED:20251008T131124Z
UID:2678-1762545600-1762552800@paulschroeder.info
SUMMARY:Die Odyssee
DESCRIPTION:Die Odyssee – ein Irrfahrt nach Homer. \nDie preisgekrönte\, über 100 Mal gespielte Kultinszenierung. Paul Schröder ist mit seinem Kollegen Thomas Niehaus zu erleben. Mehr Informationen zur Veranstaltung bitte hier klicken: Die Odyssee
URL:https://paulschroeder.info/event/die-odyssee-33/
LOCATION:Thalia-Theater – Gaußstraße\, Gaußstraße 190\, Hamburg\, Hamburg
CATEGORIES:Thalia Theater
END:VEVENT
BEGIN:VEVENT
DTSTART;TZID=Europe/Berlin:20251115T080000
DTEND;TZID=Europe/Berlin:20251115T170000
DTSTAMP:20260421T203001
CREATED:20251008T131218Z
LAST-MODIFIED:20251008T131218Z
UID:2680-1763193600-1763226000@paulschroeder.info
SUMMARY:Die Odyssee
DESCRIPTION:Die Odyssee – ein Irrfahrt nach Homer. \nDie preisgekrönte\, über 100 Mal gespielte Kultinszenierung. Paul Schröder ist mit seinem Kollegen Thomas Niehaus zu erleben. Mehr Informationen zur Veranstaltung bitte hier klicken: Die Odyssee
URL:https://paulschroeder.info/event/die-odyssee-34/
LOCATION:Thalia-Theater – Gaußstraße\, Gaußstraße 190\, Hamburg\, Hamburg
CATEGORIES:Thalia Theater
END:VEVENT
BEGIN:VEVENT
DTSTART;TZID=Europe/Berlin:20251120T180000
DTEND;TZID=Europe/Berlin:20251120T214500
DTSTAMP:20260421T203001
CREATED:20251008T133637Z
LAST-MODIFIED:20251008T133637Z
UID:2693-1763661600-1763675100@paulschroeder.info
SUMMARY:Solange wir leben
DESCRIPTION:Paul Schröder zu sehen in den Rollen: Amos\, Friedrich\, Gerhard \nUraufführung\nnach dem Roman von David Safier\nin einer Fassung von John von Düffel\nRegie: Alize Zandwijk \nMehr Infos https://theaterbremen.de/de_DE/programm/solange-wir-leben.1361865
URL:https://paulschroeder.info/event/solange-wir-leben-9/
LOCATION:Theater Bremen\, Goetheplatz 1-3\, Bremen\, 28203
CATEGORIES:Theater Bremen
ORGANIZER;CN="Theater Bremen":MAILTO:kasse@theaterbremen.de
END:VEVENT
BEGIN:VEVENT
DTSTART;TZID=Europe/Berlin:20251123T190000
DTEND;TZID=Europe/Berlin:20251123T210000
DTSTAMP:20260421T203001
CREATED:20250704T105606Z
LAST-MODIFIED:20250804T081148Z
UID:2645-1763924400-1763931600@paulschroeder.info
SUMMARY:Paul & Willi - Pantomime ist sch****e!* *schwer
DESCRIPTION:Schmidtchen wir kommen! \nBTW: Paul&Willi sind mit ihrer Internetpräsenz auf https://kollektivkatla.ch umgezogen. Guckst ma an.
URL:https://paulschroeder.info/event/paul-willi-pantomime-ist-sche-schwer/
LOCATION:Schmidtchen Hamburg\, Spielbudenplatz 27-28\, Hamburg\, Hamburg\, 20359\, Deutschland
CATEGORIES:Freie Szene,Paul und Willi
END:VEVENT
END:VCALENDAR