BEGIN:VCALENDAR
VERSION:2.0
PRODID:-//paul schröder - ECPv6.15.20//NONSGML v1.0//EN
CALSCALE:GREGORIAN
METHOD:PUBLISH
X-ORIGINAL-URL:https://paulschroeder.info
X-WR-CALDESC:Veranstaltungen für paul schröder
REFRESH-INTERVAL;VALUE=DURATION:PT1H
X-Robots-Tag:noindex
X-PUBLISHED-TTL:PT1H
BEGIN:VTIMEZONE
TZID:Europe/Berlin
BEGIN:DAYLIGHT
TZOFFSETFROM:+0100
TZOFFSETTO:+0200
TZNAME:CEST
DTSTART:20240331T010000
END:DAYLIGHT
BEGIN:STANDARD
TZOFFSETFROM:+0200
TZOFFSETTO:+0100
TZNAME:CET
DTSTART:20241027T010000
END:STANDARD
BEGIN:DAYLIGHT
TZOFFSETFROM:+0100
TZOFFSETTO:+0200
TZNAME:CEST
DTSTART:20250330T010000
END:DAYLIGHT
BEGIN:STANDARD
TZOFFSETFROM:+0200
TZOFFSETTO:+0100
TZNAME:CET
DTSTART:20251026T010000
END:STANDARD
BEGIN:DAYLIGHT
TZOFFSETFROM:+0100
TZOFFSETTO:+0200
TZNAME:CEST
DTSTART:20260329T010000
END:DAYLIGHT
BEGIN:STANDARD
TZOFFSETFROM:+0200
TZOFFSETTO:+0100
TZNAME:CET
DTSTART:20261025T010000
END:STANDARD
END:VTIMEZONE
BEGIN:VEVENT
DTSTART;TZID=Europe/Berlin:20250703T190000
DTEND;TZID=Europe/Berlin:20250703T230000
DTSTAMP:20260422T042507
CREATED:20250517T094545Z
LAST-MODIFIED:20250517T094545Z
UID:2585-1751569200-1751583600@paulschroeder.info
SUMMARY:Wenn die Rolle singt oder der vollkommene Angler
DESCRIPTION:
URL:https://paulschroeder.info/event/wenn-die-rolle-singt-oder-der-vollkommene-angler-7/
LOCATION:Thalia Theater – Nachtasysl\, Alstertor 2\, Hamburg\, Hamburg\, Deutschland
CATEGORIES:Freie Szene,Wenn die Rolle singt...
END:VEVENT
BEGIN:VEVENT
DTSTART;TZID=Europe/Berlin:20250705T150000
DTEND;TZID=Europe/Berlin:20250705T170000
DTSTAMP:20260422T042507
CREATED:20250517T094804Z
LAST-MODIFIED:20250517T094836Z
UID:2587-1751727600-1751734800@paulschroeder.info
SUMMARY:Die Odyssee
DESCRIPTION:
URL:https://paulschroeder.info/event/die-odyssee-30/
CATEGORIES:Thalia Theater
END:VEVENT
END:VCALENDAR