BEGIN:VCALENDAR
VERSION:2.0
PRODID:-//paul schröder - ECPv6.15.20//NONSGML v1.0//EN
CALSCALE:GREGORIAN
METHOD:PUBLISH
X-ORIGINAL-URL:https://paulschroeder.info
X-WR-CALDESC:Veranstaltungen für paul schröder
REFRESH-INTERVAL;VALUE=DURATION:PT1H
X-Robots-Tag:noindex
X-PUBLISHED-TTL:PT1H
BEGIN:VTIMEZONE
TZID:Europe/Berlin
BEGIN:DAYLIGHT
TZOFFSETFROM:+0100
TZOFFSETTO:+0200
TZNAME:CEST
DTSTART:20250330T010000
END:DAYLIGHT
BEGIN:STANDARD
TZOFFSETFROM:+0200
TZOFFSETTO:+0100
TZNAME:CET
DTSTART:20251026T010000
END:STANDARD
BEGIN:DAYLIGHT
TZOFFSETFROM:+0100
TZOFFSETTO:+0200
TZNAME:CEST
DTSTART:20260329T010000
END:DAYLIGHT
BEGIN:STANDARD
TZOFFSETFROM:+0200
TZOFFSETTO:+0100
TZNAME:CET
DTSTART:20261025T010000
END:STANDARD
BEGIN:DAYLIGHT
TZOFFSETFROM:+0100
TZOFFSETTO:+0200
TZNAME:CEST
DTSTART:20270328T010000
END:DAYLIGHT
BEGIN:STANDARD
TZOFFSETFROM:+0200
TZOFFSETTO:+0100
TZNAME:CET
DTSTART:20271031T010000
END:STANDARD
END:VTIMEZONE
BEGIN:VEVENT
DTSTART;TZID=Europe/Berlin:20260522T200000
DTEND;TZID=Europe/Berlin:20260522T220000
DTSTAMP:20260421T145103
CREATED:20251220T130311Z
LAST-MODIFIED:20251220T130311Z
UID:2722-1779480000-1779487200@paulschroeder.info
SUMMARY:Der Geisterseher
DESCRIPTION:Eine Kollektiv-Katla Produktion: https://kollektivkatla.ch/project/der-geisterseher/ \nDer Geisterseher nach Friedrich Schiller. Ein Kammerspiel mit Jirka Zett und Paul Schröder\, Regie: Antú Romero Nunes
URL:https://paulschroeder.info/event/der-geisterseher-2/
CATEGORIES:Freie Szene,Geisterseher
ORGANIZER;CN="Ernst Deutsch Theater Hamburg":MAILTO:tickets@ernst-deutsch-theater.de
END:VEVENT
BEGIN:VEVENT
DTSTART;TZID=Europe/Berlin:20260523T193000
DTEND;TZID=Europe/Berlin:20260523T220000
DTSTAMP:20260421T145103
CREATED:20251220T125357Z
LAST-MODIFIED:20251220T140248Z
UID:2717-1779564600-1779573600@paulschroeder.info
SUMMARY:Wenn die Rolle singt oder der vollkommene Angler
DESCRIPTION:Mehr zum Abend findest du\, wenn du auf folgende Schrift tippst: WENN DIE ROLLE SINGT oder Der Vollkommene Angler \n  \n\n\n\nvon und mit\nThomas Niehaus\nPaul Schröder\n\n\nRegie\nJohanna Louise Witt\n\n\nBühne\nMarion Schindler\n\n\nVideo\nJonas Link
URL:https://paulschroeder.info/event/wenn-dir-rolle-singt-oder-der-vollkommene-angler/
LOCATION:Ernst Deutsch Theater Hamburg\, Friedrich-Schütter-Platz 1\, Hamburg\, Hamburg\, 22087\, Germany
CATEGORIES:Freie Szene,Wenn die Rolle singt...
ORGANIZER;CN="Ernst Deutsch Theater Hamburg":MAILTO:tickets@ernst-deutsch-theater.de
END:VEVENT
BEGIN:VEVENT
DTSTART;TZID=Europe/Berlin:20260604T200000
DTEND;TZID=Europe/Berlin:20260604T220000
DTSTAMP:20260421T145103
CREATED:20251220T131235Z
LAST-MODIFIED:20251220T131235Z
UID:2725-1780603200-1780610400@paulschroeder.info
SUMMARY:Der Geisterseher
DESCRIPTION:Eine Kollektiv-Katla Produktion: https://kollektivkatla.ch/project/der-geisterseher/ \nDer Geisterseher nach Friedrich Schiller. Ein Kammerspiel mit Jirka Zett und Paul Schröder\, Regie: Antú Romero Nunes \n 
URL:https://paulschroeder.info/event/der-geisterseher-3/
LOCATION:Kulturraum Thalwil\, Bahnhofstrasse 24\, Thalwil\, 8800\, Switzerland
CATEGORIES:Freie Szene,Geisterseher
ATTACH;FMTTYPE=image/jpeg:https://paulschroeder.info/wp-content/uploads/2024/11/Krafft-Angerer-geisterseher1_gross-scaled.jpg
ORGANIZER;CN="Kulturraum Thalwil":MAILTO:info@kulturraumthalwil.ch
END:VEVENT
END:VCALENDAR