BEGIN:VCALENDAR
VERSION:2.0
PRODID:-//paul schröder - ECPv6.15.20//NONSGML v1.0//EN
CALSCALE:GREGORIAN
METHOD:PUBLISH
X-ORIGINAL-URL:https://paulschroeder.info
X-WR-CALDESC:Veranstaltungen für paul schröder
REFRESH-INTERVAL;VALUE=DURATION:PT1H
X-Robots-Tag:noindex
X-PUBLISHED-TTL:PT1H
BEGIN:VTIMEZONE
TZID:Europe/Berlin
BEGIN:DAYLIGHT
TZOFFSETFROM:+0100
TZOFFSETTO:+0200
TZNAME:CEST
DTSTART:20250330T010000
END:DAYLIGHT
BEGIN:STANDARD
TZOFFSETFROM:+0200
TZOFFSETTO:+0100
TZNAME:CET
DTSTART:20251026T010000
END:STANDARD
BEGIN:DAYLIGHT
TZOFFSETFROM:+0100
TZOFFSETTO:+0200
TZNAME:CEST
DTSTART:20260329T010000
END:DAYLIGHT
BEGIN:STANDARD
TZOFFSETFROM:+0200
TZOFFSETTO:+0100
TZNAME:CET
DTSTART:20261025T010000
END:STANDARD
BEGIN:DAYLIGHT
TZOFFSETFROM:+0100
TZOFFSETTO:+0200
TZNAME:CEST
DTSTART:20270328T010000
END:DAYLIGHT
BEGIN:STANDARD
TZOFFSETFROM:+0200
TZOFFSETTO:+0100
TZNAME:CET
DTSTART:20271031T010000
END:STANDARD
END:VTIMEZONE
BEGIN:VEVENT
DTSTART;TZID=Europe/Berlin:20260213T180000
DTEND;TZID=Europe/Berlin:20260213T220000
DTSTAMP:20260421T173913
CREATED:20251220T124101Z
LAST-MODIFIED:20251220T124101Z
UID:2710-1771005600-1771020000@paulschroeder.info
SUMMARY:Solange wir leben
DESCRIPTION:Paul Schröder zu sehen in den Rollen: Amos\, Friedrich\, Gerhard \nUraufführung\nnach dem Roman von David Safier\nin einer Fassung von John von Düffel\nRegie: Alize Zandwijk \nMehr Infos https://theaterbremen.de/de_DE/programm/solange-wir-leben.1361865
URL:https://paulschroeder.info/event/solange-wir-leben-11/
LOCATION:Theater Bremen\, Goetheplatz 1-3\, Bremen\, 28203
CATEGORIES:Theater Bremen
ORGANIZER;CN="Theater Bremen":MAILTO:kasse@theaterbremen.de
END:VEVENT
END:VCALENDAR