BEGIN:VCALENDAR
VERSION:2.0
PRODID:-//paul schröder - ECPv6.15.20//NONSGML v1.0//EN
CALSCALE:GREGORIAN
METHOD:PUBLISH
X-WR-CALNAME:paul schröder
X-ORIGINAL-URL:https://paulschroeder.info
X-WR-CALDESC:Veranstaltungen für paul schröder
REFRESH-INTERVAL;VALUE=DURATION:PT1H
X-Robots-Tag:noindex
X-PUBLISHED-TTL:PT1H
BEGIN:VTIMEZONE
TZID:Europe/Berlin
BEGIN:DAYLIGHT
TZOFFSETFROM:+0100
TZOFFSETTO:+0200
TZNAME:CEST
DTSTART:20240331T010000
END:DAYLIGHT
BEGIN:STANDARD
TZOFFSETFROM:+0200
TZOFFSETTO:+0100
TZNAME:CET
DTSTART:20241027T010000
END:STANDARD
BEGIN:DAYLIGHT
TZOFFSETFROM:+0100
TZOFFSETTO:+0200
TZNAME:CEST
DTSTART:20250330T010000
END:DAYLIGHT
BEGIN:STANDARD
TZOFFSETFROM:+0200
TZOFFSETTO:+0100
TZNAME:CET
DTSTART:20251026T010000
END:STANDARD
BEGIN:DAYLIGHT
TZOFFSETFROM:+0100
TZOFFSETTO:+0200
TZNAME:CEST
DTSTART:20260329T010000
END:DAYLIGHT
BEGIN:STANDARD
TZOFFSETFROM:+0200
TZOFFSETTO:+0100
TZNAME:CET
DTSTART:20261025T010000
END:STANDARD
END:VTIMEZONE
BEGIN:VEVENT
DTSTART;TZID=Europe/Berlin:20251010T180000
DTEND;TZID=Europe/Berlin:20251010T214500
DTSTAMP:20260422T010345
CREATED:20251008T133431Z
LAST-MODIFIED:20251008T133458Z
UID:2688-1760119200-1760132700@paulschroeder.info
SUMMARY:Solange wir leben
DESCRIPTION:Paul Schröder zu sehen in den Rollen: Amos\, Friedrich\, Gerhard \nUraufführung\nnach dem Roman von David Safier\nin einer Fassung von John von Düffel\nRegie: Alize Zandwijk \nMehr Infos https://theaterbremen.de/de_DE/programm/solange-wir-leben.1361865
URL:https://paulschroeder.info/event/solange-wir-leben-7/
LOCATION:Theater Bremen\, Goetheplatz 1-3\, Bremen\, 28203
CATEGORIES:Theater Bremen
ORGANIZER;CN="Theater Bremen":MAILTO:kasse@theaterbremen.de
END:VEVENT
END:VCALENDAR